BEGIN:VCALENDAR
VERSION:2.0
PRODID:-//Black Coffee Australia - ECPv6.10.1.1//NONSGML v1.0//EN
CALSCALE:GREGORIAN
METHOD:PUBLISH
X-ORIGINAL-URL:https://www.blackcoffee.net.au
X-WR-CALDESC:Events for Black Coffee Australia
REFRESH-INTERVAL;VALUE=DURATION:PT1H
X-Robots-Tag:noindex
X-PUBLISHED-TTL:PT1H
BEGIN:VTIMEZONE
TZID:Australia/Brisbane
BEGIN:STANDARD
TZOFFSETFROM:+1000
TZOFFSETTO:+1000
TZNAME:AEST
DTSTART:20220101T000000
END:STANDARD
END:VTIMEZONE
BEGIN:VEVENT
DTSTART;TZID=Australia/Brisbane:20220818T073000
DTEND;TZID=Australia/Brisbane:20220818T093000
DTSTAMP:20260425T011632
CREATED:20220804T045939Z
LAST-MODIFIED:20220814T221353Z
UID:3449-1660807800-1660815000@www.blackcoffee.net.au
SUMMARY:Fortitude Valley\, Black Coffee
DESCRIPTION:Black Coffee members\, you’re invited to come and meet the CEO of Fujitsu Asia Pacific\, Graeme Beardsell. Graeme will give a very brief overview but he’s keen to spend his time yarning with businesses and hearing what you do in your businesses. \nAs well as Graeme\, Nicole Forrester\, Head of Purpose for Fujitsu Australia and New Zealand will be present along with members of the Brisbane  Fujitsu team. \nCome along to this great opportunity to meet with Fujitsu staff and have a yarn over a cup of coffee. \nFortitude Valley\, Black Coffee event is to be held at The Precinct on Thursday 18 August\, starting at 7:30 am networking for a 8:00 am commencement time.\nThe address is level 2\, TC Beirne Building\, 315 Brunswick Street Fortitude Valley. \nPlease RSVP your attendance.
URL:https://www.blackcoffee.net.au/event/fortitude-valley-black-coffee-2/
LOCATION:The Precinct\, Level 2 315 Brunswick Street\, Fortitude Valley\, Queensland\, 4006\, Australia
CATEGORIES:Brisbane,QLD
END:VEVENT
BEGIN:VEVENT
DTSTART;TZID=Australia/Brisbane:20220824T073000
DTEND;TZID=Australia/Brisbane:20220824T090000
DTSTAMP:20260425T011632
CREATED:20220805T055802Z
LAST-MODIFIED:20220805T060707Z
UID:3455-1661326200-1661331600@www.blackcoffee.net.au
SUMMARY:Ipswich Black Coffee
DESCRIPTION:Black Coffee is a grassroots First Nations business networking opportunity held in regions across Australia each month with a goal to provide a platform to connect micro and small business owners. \nFirst Nations business owners\, professionals and their supporters are invited to get together and have a yarn at Ipswich Black Coffee’s upcoming gathering Wednesday August 24\, 7:30 am Fire Station 101\, 101 Limestone Street Ipswich. \nPlease RSVP to our Ipswich Black Coffee Coordinator Derek Kinchela derek.kinchela@ipswich.qld.gov.au
URL:https://www.blackcoffee.net.au/event/ipswich-black-coffee-14-2/
LOCATION:Fire Station 101\, 101 Limestone Street\, Ipswich\, Queensland\, 4305\, Australia
CATEGORIES:Ipswich,QLD
END:VEVENT
END:VCALENDAR