BEGIN:VCALENDAR
VERSION:2.0
PRODID:-//Black Coffee Australia - ECPv6.10.1.1//NONSGML v1.0//EN
CALSCALE:GREGORIAN
METHOD:PUBLISH
X-WR-CALNAME:Black Coffee Australia
X-ORIGINAL-URL:https://www.blackcoffee.net.au
X-WR-CALDESC:Events for Black Coffee Australia
REFRESH-INTERVAL;VALUE=DURATION:PT1H
X-Robots-Tag:noindex
X-PUBLISHED-TTL:PT1H
BEGIN:VTIMEZONE
TZID:Australia/Brisbane
BEGIN:STANDARD
TZOFFSETFROM:+1000
TZOFFSETTO:+1000
TZNAME:AEST
DTSTART:20220101T000000
END:STANDARD
END:VTIMEZONE
BEGIN:VEVENT
DTSTART;TZID=Australia/Brisbane:20220720T073000
DTEND;TZID=Australia/Brisbane:20220720T090000
DTSTAMP:20260425T025147
CREATED:20220628T003107Z
LAST-MODIFIED:20220721T035509Z
UID:3392-1658302200-1658307600@www.blackcoffee.net.au
SUMMARY:Fortitude Valley\, Black Coffee
DESCRIPTION:Hosted by the Queensland Investment Corporation the Fortitude Valley\, Black Coffee event is to be held at The Precinct on the Wednesday 20 July at 7:30 am to 9:00 am.\nThe address is level 2\, TC Beirne Building\, 315 Brunswick Street Fortitude Valley. \nAre you looking for Business opportunities? \nQIC will speak on requirements & opportunities in target service areas: \n\nBuilding and Draft\nElectrical\nMechanical\nGraphic Design\nICT and Software\nPrinting\nLandscaping and Maintenance\n\n  \nPlease RSVP your attendance.
URL:https://www.blackcoffee.net.au/event/fortitude-valley-black-coffee/
LOCATION:The Precinct\, Level 2 315 Brunswick Street\, Fortitude Valley\, Queensland\, 4006\, Australia
CATEGORIES:Brisbane,QLD
END:VEVENT
BEGIN:VEVENT
DTSTART;TZID=Australia/Brisbane:20220726T093000
DTEND;TZID=Australia/Brisbane:20220726T113000
DTSTAMP:20260425T025147
CREATED:20220721T003311Z
LAST-MODIFIED:20220721T003441Z
UID:3415-1658827800-1658835000@www.blackcoffee.net.au
SUMMARY:Fireside Chat\, Fortitude Valley Black Coffee
DESCRIPTION:All Black Coffee members are invited to Advance Queensland and Boeings Aerospace Xelerated Fireside Chat. \nMeet incredible First Nations people creating change within the defence industry and discover the innovation and cutting edge technology they are developing and delivering. \nRSVP is a must to the following Evenbrite link: https://lnkd.in/gDxa_rpC \nWhen 9:30 am – 11:30 am\, Tuesday 26 July 2022 \nWhere Stair Stadium\, Level 2 The Precinct\, Fortitude Valley. \n  \n  \n 
URL:https://www.blackcoffee.net.au/event/fireside-chat-fortitude-valley-black-coffee/
LOCATION:Thursday Island
CATEGORIES:Brisbane,QLD
END:VEVENT
BEGIN:VEVENT
DTSTART;TZID=Australia/Brisbane:20220728T073000
DTEND;TZID=Australia/Brisbane:20220728T090000
DTSTAMP:20260425T025147
CREATED:20220725T080506Z
LAST-MODIFIED:20220725T080506Z
UID:3432-1658993400-1658998800@www.blackcoffee.net.au
SUMMARY:Mackay\, Black Coffee
DESCRIPTION:Black Coffee Mackay \nDate: Thursday 28th July 2022 \nTime: 7.30am-9am \nLocation: Reconcile Life\, 5 Wellington Street\, Mackay Qld 4740 \nTo confirm your attendance please reply via email \nBusinessMKY@dsdsatsip.qld.gov.au \nPlease Note: \nThere is no Coffee Shop at these premises. \nPlease come along with your own coffee otherwise coffee and tea is available on site. \nWe look forward to seeing you there.
URL:https://www.blackcoffee.net.au/event/mackay-black-coffee-3/
LOCATION:Reconcile Life\, 5 Wellington Street\, Mackay\, Queensland\, 4740\, Australia
CATEGORIES:Mackay,QLD
END:VEVENT
BEGIN:VEVENT
DTSTART;TZID=Australia/Brisbane:20220728T090000
DTEND;TZID=Australia/Brisbane:20220728T100000
DTSTAMP:20260425T025147
CREATED:20220725T063835Z
LAST-MODIFIED:20220725T063835Z
UID:3425-1658998800-1659002400@www.blackcoffee.net.au
SUMMARY:Logan\, Black Coffee
DESCRIPTION:Please join in the Logan Black Coffee get- together Gloria Jeans Greenbank\, 9am on Thursday 28th July. \n\n\nLocated in: Greenbank Shopping Centre\n\n\nAddress: Greenbank Shopping Centre\, 8/251 Teviot Rd &\, Pub Ln\, Greenbank QLD 4219
URL:https://www.blackcoffee.net.au/event/logan-black-coffee-8/
LOCATION:Gloria Jeans Greenbank\, 8/251 Teviot Rd &\, Pub Lane\, Logan\, Queensland\, 4219
END:VEVENT
END:VCALENDAR