BEGIN:VCALENDAR
VERSION:2.0
PRODID:-//Black Coffee Australia - ECPv6.10.1.1//NONSGML v1.0//EN
CALSCALE:GREGORIAN
METHOD:PUBLISH
X-WR-CALNAME:Black Coffee Australia
X-ORIGINAL-URL:https://www.blackcoffee.net.au
X-WR-CALDESC:Events for Black Coffee Australia
REFRESH-INTERVAL;VALUE=DURATION:PT1H
X-Robots-Tag:noindex
X-PUBLISHED-TTL:PT1H
BEGIN:VTIMEZONE
TZID:Australia/Perth
BEGIN:STANDARD
TZOFFSETFROM:+0800
TZOFFSETTO:+0800
TZNAME:AWST
DTSTART:20260101T000000
END:STANDARD
END:VTIMEZONE
BEGIN:VEVENT
DTSTART;TZID=Australia/Perth:20260521T083000
DTEND;TZID=Australia/Perth:20260521T103000
DTSTAMP:20260423T074854
CREATED:20260401T005936Z
LAST-MODIFIED:20260401T012638Z
UID:15756-1779352200-1779359400@www.blackcoffee.net.au
SUMMARY:Goomburrup (Bunbury) Black Coffee
DESCRIPTION:Bunbury Black Coffee \nWhen: Thursday 21 May\, 2026\nTime: 8.30 am onwards\n\nWhere: Bunbury Geographe Chamber of Commerce\, 15 Stirling St\, Bunbury\n\nRSVP is a must below. \n \n 
URL:https://www.blackcoffee.net.au/event/goomburrup-black-coffee-may-2026/
LOCATION:Bunbury Geographe Chamber of Commerce & Industry\, 15 Stirling St\, Bunbury
CATEGORIES:Bunbury
ORGANIZER;CN="Black Coffee - Indigenous Business Network":MAILTO:admin@blackcoffee.net.au
END:VEVENT
END:VCALENDAR