BEGIN:VCALENDAR
VERSION:2.0
PRODID:-//Black Coffee Australia - ECPv6.10.1.1//NONSGML v1.0//EN
CALSCALE:GREGORIAN
METHOD:PUBLISH
X-ORIGINAL-URL:https://www.blackcoffee.net.au
X-WR-CALDESC:Events for Black Coffee Australia
REFRESH-INTERVAL;VALUE=DURATION:PT1H
X-Robots-Tag:noindex
X-PUBLISHED-TTL:PT1H
BEGIN:VTIMEZONE
TZID:Australia/Brisbane
BEGIN:STANDARD
TZOFFSETFROM:+1000
TZOFFSETTO:+1000
TZNAME:AEST
DTSTART:20230101T000000
END:STANDARD
END:VTIMEZONE
BEGIN:VEVENT
DTSTART;TZID=Australia/Brisbane:20230530T103000
DTEND;TZID=Australia/Brisbane:20230530T120000
DTSTAMP:20260425T114143
CREATED:20230523T042622Z
LAST-MODIFIED:20230529T052120Z
UID:5195-1685442600-1685448000@www.blackcoffee.net.au
SUMMARY:New Date - Dilin Duwa\, Shepparton Black Coffee
DESCRIPTION:Are you an Aboriginal business owner in the Shepparton region? \nJoin us for a special Black Coffee event brought to you in partnership with Black Coffee Australia\, Kaiela Institute\, Indigenous Business Australia and Kinaway Victorian Aboriginal Chamber of Commerce. Connect with other businesses\, learn more about the Shepparton Regional Series\, and how our partners can work with your business to meet your aspirations. \nIt all starts with a coffee! \nWhen: Tuesday\, June 8\, 2023 at 10;30 am – 12:00 pm \nWhere: Elsewhere at SAM – Shepparton Art Museum\, 530 Wyndham Street #Level 1 Shepparton\, VIC 3630 \nRSVP is a must below
URL:https://www.blackcoffee.net.au/event/dilin-duwa-shepparton-black-coffee/
LOCATION:Elsewhere at SAM\, 530 Wyndham Street #Level 1 Shepparton\, VIC 3630\, Melbourne\, Victoria\, 3630\, Australia
CATEGORIES:Shepparton,VIC
END:VEVENT
END:VCALENDAR