BEGIN:VCALENDAR
VERSION:2.0
PRODID:-//Black Coffee Australia - ECPv6.10.1.1//NONSGML v1.0//EN
CALSCALE:GREGORIAN
METHOD:PUBLISH
X-WR-CALNAME:Black Coffee Australia
X-ORIGINAL-URL:https://www.blackcoffee.net.au
X-WR-CALDESC:Events for Black Coffee Australia
REFRESH-INTERVAL;VALUE=DURATION:PT1H
X-Robots-Tag:noindex
X-PUBLISHED-TTL:PT1H
BEGIN:VTIMEZONE
TZID:Australia/Brisbane
BEGIN:STANDARD
TZOFFSETFROM:+1000
TZOFFSETTO:+1000
TZNAME:AEST
DTSTART:20210101T000000
END:STANDARD
END:VTIMEZONE
BEGIN:VEVENT
DTSTART;TZID=Australia/Brisbane:20221012T070000
DTEND;TZID=Australia/Brisbane:20221012T090000
DTSTAMP:20260420T063758
CREATED:20220928T015320Z
LAST-MODIFIED:20220928T015320Z
UID:3703-1665558000-1665565200@www.blackcoffee.net.au
SUMMARY:Rockhampton\, Black Coffee
DESCRIPTION:Rockhampton Black Coffee invite all mob to attend a morning of networking and yarns at Hummingbird Cafe\, 22o Quay Street\, Rockhampton\, Queensland 4700. \nJoin the Black Coffee hosts Waka Gubulgan Events Wednesday\, 12 October 2022\, 7:00 am – 9:00 am. \nPlease RSVP your attendance below\, all Indigenous and Non- Indigenous organisations and businesses in the region are welcome to attend. \n 
URL:https://www.blackcoffee.net.au/event/rockhampton-black-coffee-5/
LOCATION:Hummingbird Cafe\, 220 Quay Street\, Rockhampton\, Queensland\, 4700\, Australia
CATEGORIES:QLD,Rockhampton
END:VEVENT
BEGIN:VEVENT
DTSTART;TZID=Australia/Brisbane:20220615T063000
DTEND;TZID=Australia/Brisbane:20220615T083000
DTSTAMP:20260420T063758
CREATED:20220609T012251Z
LAST-MODIFIED:20220609T012251Z
UID:3372-1655274600-1655281800@www.blackcoffee.net.au
SUMMARY:Rockhampton Black Coffee
DESCRIPTION:Waka Gubulgan Events are kindly hosting the Rockhampton Black Coffee gathering on Wednesday June 15 at Rockhampton Regional Council 232 Bolsover Street Rockhampton. Join the team at 6:30 am – 8:30 am for a morning of great yarns and connecting\, everyone is welcome.
URL:https://www.blackcoffee.net.au/event/rockhampton-black-coffee-4/
LOCATION:Rockhampton City Council\, 232 Bolsover Street\, Rockhampton\, Queensland\, 4700\, Australia
CATEGORIES:QLD,Rockhampton
END:VEVENT
BEGIN:VEVENT
DTSTART;TZID=Australia/Brisbane:20210429T073000
DTEND;TZID=Australia/Brisbane:20210429T093000
DTSTAMP:20260420T063758
CREATED:20210406T001540Z
LAST-MODIFIED:20210427T072653Z
UID:2045-1619681400-1619688600@www.blackcoffee.net.au
SUMMARY:Rockhampton Black Coffee
DESCRIPTION:Rocky Black Coffee is on again in April. The Darumbal People Aboriginal Corporation are hosting this event. We welcome you for a catch-up and yarn. Black Coffee is a grassroots Indigenous networking event and welcomes Indigenous business owners and supporters. \nThis will be the third event held in Rocky so please feel free to join us. \n**The time and venue are to be confirmed \nThanks to everyone who dropped in at the March event. It was great to catch up with people. \n📸 by Kristina Hatfield
URL:https://www.blackcoffee.net.au/event/rockhampton-black-coffee-2/
LOCATION:Blackwoods Rockhampton\, 211-213 Farm St\, North Rockhampton\, Queensland\, 4701
CATEGORIES:QLD,Rockhampton
ATTACH;FMTTYPE=image/png:https://www.blackcoffee.net.au/wp-content/uploads/2021/03/ROCKY.png
ORGANIZER;CN="Darumbal People Aboriginal Corporation":MAILTO:Kristina.Hatfield@darumbal.com.au
END:VEVENT
BEGIN:VEVENT
DTSTART;TZID=Australia/Brisbane:20210330T063000
DTEND;TZID=Australia/Brisbane:20210330T090000
DTSTAMP:20260420T063758
CREATED:20210325T234352Z
LAST-MODIFIED:20210415T020747Z
UID:2008-1617085800-1617094800@www.blackcoffee.net.au
SUMMARY:Rockhampton Black Coffee
DESCRIPTION:Black Coffee is being hosted in Rockhampton by the Darumbal People Aboriginal Corporation.  Dave Dow Murri Business Owner  –  “Short Black” will have his mobile Coffee Stand on site ready for our morning brew! \nWe welcome all Indigenous business owners and supporters to attend this free event. If you are visiting our town please feel free to pop in for a yarn. \n📸 by Kristina Hatfield
URL:https://www.blackcoffee.net.au/event/rockhampton-black-coffee/
LOCATION:Kershaw Gardens (Playground Area)\, Moores Creek Rd\, Park Avenue\, Rockhampton\, Queensland\, 4701\, Australia
CATEGORIES:QLD,Rockhampton
ATTACH;FMTTYPE=image/png:https://www.blackcoffee.net.au/wp-content/uploads/2021/03/ROCKY.png
ORGANIZER;CN="Darumbal People Aboriginal Corporation":MAILTO:Kristina.Hatfield@darumbal.com.au
END:VEVENT
END:VCALENDAR