BEGIN:VCALENDAR
VERSION:2.0
PRODID:-//Black Coffee Australia - ECPv6.10.1.1//NONSGML v1.0//EN
CALSCALE:GREGORIAN
METHOD:PUBLISH
X-ORIGINAL-URL:https://www.blackcoffee.net.au
X-WR-CALDESC:Events for Black Coffee Australia
REFRESH-INTERVAL;VALUE=DURATION:PT1H
X-Robots-Tag:noindex
X-PUBLISHED-TTL:PT1H
BEGIN:VTIMEZONE
TZID:Australia/Brisbane
BEGIN:STANDARD
TZOFFSETFROM:+1000
TZOFFSETTO:+1000
TZNAME:AEST
DTSTART:20240101T000000
END:STANDARD
END:VTIMEZONE
BEGIN:VEVENT
DTSTART;TZID=Australia/Brisbane:20240320T073000
DTEND;TZID=Australia/Brisbane:20240320T090000
DTSTAMP:20260425T215821
CREATED:20240222T024019Z
LAST-MODIFIED:20240318T225953Z
UID:8200-1710919800-1710925200@www.blackcoffee.net.au
SUMMARY:FKG | GFG Toowoomba Black Coffee
DESCRIPTION:FKG | GFG Toowoomba Black Coffee \nPlease join Ashley from TSBE and Adam our volunteer regional coordinators for the opportunity to find out more about procurement opportunities in the region.   \nDate: 20th March 2024 \nTime: 7:30 am – 9:00 am \nLocation: 275 McDougall Street Toowoomba (FKG/GFG Projects Site Shed) \nRSVP: Is a must as refreshments & light catering is provided \nFKG Group Description: With offices throughout Queensland\, New South Wales and the Northern Territory\, the FKG Group provides integrated construction\, civil\, development and support services for a wide range of sectors. As a privately owned\, leading Tier-2 contractor\, they undertake projects for both government and private clients. Recently celebrating 50 years\, FKG Group have developed an enviable reputation for delivering outstanding construction\, civil and development projects. \nGFG Projects Description: GFG Projects is a full-service development and construction company delivering bespoke and high-quality projects across all sectors of the industry. A collaborative approach combined with their development and construction expertise provides value to clients and allows GFG to ensure projects are streamlined from concept to creation. \n \n 
URL:https://www.blackcoffee.net.au/event/fkg-gfg-toowoomba-black-coffee/
LOCATION:FKG/GFG Projects Site Shed\, 275 McDougall Street Toowoomba
CATEGORIES:QLD,Toowoomba
END:VEVENT
END:VCALENDAR