BEGIN:VCALENDAR
VERSION:2.0
PRODID:-//Black Coffee Australia - ECPv6.10.1.1//NONSGML v1.0//EN
CALSCALE:GREGORIAN
METHOD:PUBLISH
X-ORIGINAL-URL:https://www.blackcoffee.net.au
X-WR-CALDESC:Events for Black Coffee Australia
REFRESH-INTERVAL;VALUE=DURATION:PT1H
X-Robots-Tag:noindex
X-PUBLISHED-TTL:PT1H
BEGIN:VTIMEZONE
TZID:Australia/Brisbane
BEGIN:STANDARD
TZOFFSETFROM:+1000
TZOFFSETTO:+1000
TZNAME:AEST
DTSTART:20230101T000000
END:STANDARD
END:VTIMEZONE
BEGIN:VEVENT
DTSTART;TZID=Australia/Brisbane:20230414T070000
DTEND;TZID=Australia/Brisbane:20230414T090000
DTSTAMP:20260426T024805
CREATED:20230331T025502Z
LAST-MODIFIED:20230331T102732Z
UID:4770-1681455600-1681462800@www.blackcoffee.net.au
SUMMARY:Chinchilla\, Black Coffee
DESCRIPTION:Chinchilla\, Black Coffee will be hosted  by Kitja Services \nThe event details are: \nDate:   Friday 14\, April 2023 \nTime: 7:00 am – 9:00 am \nVenue: Chinchilla RSL \nRSVP Below \n \n  \n 
URL:https://www.blackcoffee.net.au/event/chinchilla-black-coffee-2-2/
LOCATION:Chinchilla RSL\, 61 Heeney St\, Chinchilla\, Queensland\, 4413\, Australia
CATEGORIES:Chinchilla,QLD
END:VEVENT
END:VCALENDAR