BEGIN:VCALENDAR
VERSION:2.0
PRODID:-//Black Coffee Australia - ECPv6.10.1.1//NONSGML v1.0//EN
CALSCALE:GREGORIAN
METHOD:PUBLISH
X-WR-CALNAME:Black Coffee Australia
X-ORIGINAL-URL:https://www.blackcoffee.net.au
X-WR-CALDESC:Events for Black Coffee Australia
REFRESH-INTERVAL;VALUE=DURATION:PT1H
X-Robots-Tag:noindex
X-PUBLISHED-TTL:PT1H
BEGIN:VTIMEZONE
TZID:Australia/Brisbane
BEGIN:STANDARD
TZOFFSETFROM:+1000
TZOFFSETTO:+1000
TZNAME:AEST
DTSTART:20230101T000000
END:STANDARD
END:VTIMEZONE
BEGIN:VEVENT
DTSTART;TZID=Australia/Brisbane:20230630T073000
DTEND;TZID=Australia/Brisbane:20230630T093000
DTSTAMP:20260423T074651
CREATED:20230614T062631Z
LAST-MODIFIED:20230622T050051Z
UID:5401-1688110200-1688117400@www.blackcoffee.net.au
SUMMARY:Ambassador for First Nations People Black Coffee Meeanjin
DESCRIPTION:Ambassador for First Nations People\,  Black Coffee Meeanjin Meet and Greet  \nJoin us for a Black Coffee with Australia’s inaugural Ambassador for First Nations People\, Mr Justin Mohamed. Justin was appointed to the role in March by Foreign Minister Senator the Hon Penny Wong. \nAmbassador Mohamed will discuss his role and outline the value of embedding First Nation perspectives and experiences into Australia’s Foreign Policy and Trade Strategy. \nThis will be followed by a networking session for members of the Brisbane community to meet the Ambassador. \nFurther details on the Ambassador role can be found here: Ambassador for First Nations People | Australian Government Department of Foreign Affairs and Trade (dfat.gov.au) \n\n\nWhere: The Precinct Lvl 2\, 315 Brunswick St\, Fortitude Valley\, Brisbane. \nWhen: 30th of June 7:30 am – 9:30 am \nRSVP Below : Is a must as light refreshments are provided.
URL:https://www.blackcoffee.net.au/event/ambassador-for-first-nations-people-black-coffee-meeanjin/
LOCATION:TC Beirne Building\, 315 Brunswick Street\, Fortitude Valley\, Queensland\, 4000\, Australia
CATEGORIES:Brisbane,QLD
END:VEVENT
END:VCALENDAR