BEGIN:VCALENDAR
VERSION:2.0
PRODID:-//Black Coffee Australia - ECPv6.10.1.1//NONSGML v1.0//EN
CALSCALE:GREGORIAN
METHOD:PUBLISH
X-ORIGINAL-URL:https://www.blackcoffee.net.au
X-WR-CALDESC:Events for Black Coffee Australia
REFRESH-INTERVAL;VALUE=DURATION:PT1H
X-Robots-Tag:noindex
X-PUBLISHED-TTL:PT1H
BEGIN:VTIMEZONE
TZID:Australia/Brisbane
BEGIN:STANDARD
TZOFFSETFROM:+1000
TZOFFSETTO:+1000
TZNAME:AEST
DTSTART:20230101T000000
END:STANDARD
END:VTIMEZONE
BEGIN:VEVENT
DTSTART;TZID=Australia/Brisbane:20230315T070000
DTEND;TZID=Australia/Brisbane:20230315T093000
DTSTAMP:20260426T115703
CREATED:20230221T062220Z
LAST-MODIFIED:20230221T064320Z
UID:4353-1678863600-1678872600@www.blackcoffee.net.au
SUMMARY:Stanwell\, Brisbane Black Coffee
DESCRIPTION:Stanwell\, hosted Black Coffee in Brisbane \nStanwell are a major provider of electricity and energy solutions to Queensland\, the National Electricity Market and large energy users throughout Australia. Come along and chat with the Stanwell team about First Nations supply chain inclusion in Construction\, Engineering\, ICT and HSE training. \nWhen: 7 am – 9:30 am Wednesday March 15\, 2023 \nWhere: Broncos Leagues Club\, Captains Room – 98 Fulcher Rd\, Red Hill QLD 4059 \nCatering: Light refreshments provided \nProudly supported by Advance Queensland \nRSVP: Is a must via below
URL:https://www.blackcoffee.net.au/event/stanwell-brisbane-black-coffee/
LOCATION:Broncos Legues Club\, 98 Fulcher Rd\, Red Hill QLD\, Brisbane\, Queensland\, 4059
CATEGORIES:Brisbane,QLD
END:VEVENT
END:VCALENDAR