BEGIN:VCALENDAR
VERSION:2.0
PRODID:-//Black Coffee Australia - ECPv6.10.1.1//NONSGML v1.0//EN
CALSCALE:GREGORIAN
METHOD:PUBLISH
X-WR-CALNAME:Black Coffee Australia
X-ORIGINAL-URL:https://www.blackcoffee.net.au
X-WR-CALDESC:Events for Black Coffee Australia
REFRESH-INTERVAL;VALUE=DURATION:PT1H
X-Robots-Tag:noindex
X-PUBLISHED-TTL:PT1H
BEGIN:VTIMEZONE
TZID:Australia/Brisbane
BEGIN:STANDARD
TZOFFSETFROM:+1000
TZOFFSETTO:+1000
TZNAME:AEST
DTSTART:20230101T000000
END:STANDARD
END:VTIMEZONE
BEGIN:VEVENT
DTSTART;TZID=Australia/Brisbane:20230221T091500
DTEND;TZID=Australia/Brisbane:20230221T100000
DTSTAMP:20260426T134240
CREATED:20230207T055846Z
LAST-MODIFIED:20230207T055846Z
UID:4265-1676970900-1676973600@www.blackcoffee.net.au
SUMMARY:kuril dhagun State Library Brisbane\, Black Coffee
DESCRIPTION:kuril dhagun State Library Brisbane\, Black Coffee \nCelebrate International Mother Language day \n\nTime: 9:15 am\, Tuesday February 21\, 2023  \nLocation: kuril dhagun\, State Library of Queensland \nAddress: Stanley Place\, South Brisbane \nQueensland 4101\, Australia \nRSVP: Below is a must – tea and coffee provided \nFollowing on from Black Coffee please stay on to enjoy: \n\n10.00am-12pm – Mob Gatherings\n12.00pm-1.00pm – Lunchtime Lingo Sessions\n1.15pm-2.30pm – Black Gloves Experience\n\nEveryone is welcome to stay for any of the above sessions following Black Coffee. \nNumbers are limited for the Mob Gatherings (for catering purposes) and numbers are limited for Black Gloves experience\, so please register for them via https://www.slq.qld.gov.au/whats-on/mob-gathering-mother-language-day \n \n 
URL:https://www.blackcoffee.net.au/event/kuril-dhagun-state-library-brisbane-black-coffee/
LOCATION:kuril dhagun\, State Library Brisbane\, Stanley Place\, South Brisbane Queensland 4101\, Australia\, Brisbane\, Queensland\, 4000\, Australia
CATEGORIES:Brisbane,QLD
END:VEVENT
END:VCALENDAR