BEGIN:VCALENDAR
VERSION:2.0
PRODID:-//Black Coffee Australia - ECPv6.10.1.1//NONSGML v1.0//EN
CALSCALE:GREGORIAN
METHOD:PUBLISH
X-WR-CALNAME:Black Coffee Australia
X-ORIGINAL-URL:https://www.blackcoffee.net.au
X-WR-CALDESC:Events for Black Coffee Australia
REFRESH-INTERVAL;VALUE=DURATION:PT1H
X-Robots-Tag:noindex
X-PUBLISHED-TTL:PT1H
BEGIN:VTIMEZONE
TZID:Australia/Brisbane
BEGIN:STANDARD
TZOFFSETFROM:+1000
TZOFFSETTO:+1000
TZNAME:AEST
DTSTART:20220101T000000
END:STANDARD
END:VTIMEZONE
BEGIN:VEVENT
DTSTART;TZID=Australia/Brisbane:20230323T080000
DTEND;TZID=Australia/Brisbane:20230323T093000
DTSTAMP:20260420T080115
CREATED:20230308T020140Z
LAST-MODIFIED:20230308T020140Z
UID:4549-1679558400-1679563800@www.blackcoffee.net.au
SUMMARY:Bowen Black Coffee
DESCRIPTION:Bowen Black Coffee \nDate: Thursday 23rd March\, 2023 \nTime: 8am – 9.30am \nLocation: Horseshoe Bay Café\, 1 Horseshoe Bay\, Bowen Q 4805 \nRSVP: Via below
URL:https://www.blackcoffee.net.au/event/bowen-black-coffee-3/
LOCATION:Horseshoe Bay Cafe’\, 1 Horseshoe Bay Road\, Bowen\, Queensland\, 4805\, Australia
CATEGORIES:Bowen,QLD
END:VEVENT
BEGIN:VEVENT
DTSTART;TZID=Australia/Brisbane:20220616T073000
DTEND;TZID=Australia/Brisbane:20220616T090000
DTSTAMP:20260420T080115
CREATED:20220601T022833Z
LAST-MODIFIED:20220601T022833Z
UID:3352-1655364600-1655370000@www.blackcoffee.net.au
SUMMARY:Bowen\, Black Coffee
DESCRIPTION:Bowen Black Coffee is being held at 7:30am on 16 June 2022 at Horseshoe Bay Café\, gather with us at 1 Horseshoe Bay Road Bowen\, Queensland.
URL:https://www.blackcoffee.net.au/event/bowen-black-coffee/
LOCATION:Horseshoe Bay Cafe’\, 1 Horseshoe Bay Road\, Bowen\, Queensland\, 4805\, Australia
CATEGORIES:Bowen,QLD
END:VEVENT
END:VCALENDAR