BEGIN:VCALENDAR
VERSION:2.0
PRODID:-//Black Coffee Australia - ECPv6.10.1.1//NONSGML v1.0//EN
CALSCALE:GREGORIAN
METHOD:PUBLISH
X-ORIGINAL-URL:https://www.blackcoffee.net.au
X-WR-CALDESC:Events for Black Coffee Australia
REFRESH-INTERVAL;VALUE=DURATION:PT1H
X-Robots-Tag:noindex
X-PUBLISHED-TTL:PT1H
BEGIN:VTIMEZONE
TZID:Australia/Brisbane
BEGIN:STANDARD
TZOFFSETFROM:+1000
TZOFFSETTO:+1000
TZNAME:AEST
DTSTART:20210101T000000
END:STANDARD
END:VTIMEZONE
BEGIN:VEVENT
DTSTART;TZID=Australia/Brisbane:20210625T090000
DTEND;TZID=Australia/Brisbane:20210625T100000
DTSTAMP:20260425T111214
CREATED:20210615T031722Z
LAST-MODIFIED:20210615T031935Z
UID:2588-1624611600-1624615200@www.blackcoffee.net.au
SUMMARY:Minjerribah Black Coffee
DESCRIPTION:We would like to invite all Indigenous Elders\, business owners and supporters of Indigenous business to the June Black Coffee on Minjerribah (Stradbroke Island). \nPlease join our hosts Delvene Cockatoo-Collins and Charles Jia for a cuppa and a chat. If you are visiting the island please feel free to join us! \n 
URL:https://www.blackcoffee.net.au/event/minjerribah-black-coffee/
LOCATION:CJ’s Cafe and Pizza\, 7 Ballow Rd\,\, Dunwich\, Queensland\, 4183\, Australia
CATEGORIES:Minjerribah,QLD
ATTACH;FMTTYPE=image/png:https://www.blackcoffee.net.au/wp-content/uploads/2021/06/Final.png
END:VEVENT
END:VCALENDAR