BEGIN:VCALENDAR
VERSION:2.0
PRODID:-//Black Coffee Australia - ECPv6.10.1.1//NONSGML v1.0//EN
CALSCALE:GREGORIAN
METHOD:PUBLISH
X-ORIGINAL-URL:https://www.blackcoffee.net.au
X-WR-CALDESC:Events for Black Coffee Australia
REFRESH-INTERVAL;VALUE=DURATION:PT1H
X-Robots-Tag:noindex
X-PUBLISHED-TTL:PT1H
BEGIN:VTIMEZONE
TZID:Australia/Brisbane
BEGIN:STANDARD
TZOFFSETFROM:+1000
TZOFFSETTO:+1000
TZNAME:AEST
DTSTART:20230101T000000
END:STANDARD
END:VTIMEZONE
BEGIN:VEVENT
DTSTART;TZID=Australia/Brisbane:20230531T083000
DTEND;TZID=Australia/Brisbane:20230531T093000
DTSTAMP:20260423T084511
CREATED:20230523T080913Z
LAST-MODIFIED:20230523T080913Z
UID:5207-1685521800-1685525400@www.blackcoffee.net.au
SUMMARY:Darwin\, Black Coffee
DESCRIPTION:Darwin Black Coffee \nJoin us for a powerful grassroots Black Coffee hosted by Lift Off and Nicole Brown.  Darwin mob will come together to yarn and celebrate diversity in business big or small\, foster networking opportunities\, and amplify NT Indigenous voices. \nWhen: Wednesday\, 31st May at 8:30 am – 9:30 am \nWhere:  Aboriginal Bush Traders  Shop 4\, Ground Floor\, 19 The Mall Charles Darwin Centre\, Darwin City \nRSVP: Please register via the link as catering for the gathering is provided. \n \n 
URL:https://www.blackcoffee.net.au/event/darwin-black-coffee-2/
LOCATION:Aboriginal Bush Traders\, Darwin\, NT\, Australia
CATEGORIES:Darwin,Northern Territory
END:VEVENT
END:VCALENDAR