BEGIN:VCALENDAR
VERSION:2.0
PRODID:-//Black Coffee Australia - ECPv6.10.1.1//NONSGML v1.0//EN
CALSCALE:GREGORIAN
METHOD:PUBLISH
X-WR-CALNAME:Black Coffee Australia
X-ORIGINAL-URL:https://www.blackcoffee.net.au
X-WR-CALDESC:Events for Black Coffee Australia
REFRESH-INTERVAL;VALUE=DURATION:PT1H
X-Robots-Tag:noindex
X-PUBLISHED-TTL:PT1H
BEGIN:VTIMEZONE
TZID:Australia/Brisbane
BEGIN:STANDARD
TZOFFSETFROM:+1000
TZOFFSETTO:+1000
TZNAME:AEST
DTSTART:20240101T000000
END:STANDARD
END:VTIMEZONE
BEGIN:VEVENT
DTSTART;TZID=Australia/Brisbane:20240228T173000
DTEND;TZID=Australia/Brisbane:20240228T193000
DTSTAMP:20260425T063617
CREATED:20240201T031828Z
LAST-MODIFIED:20240201T031828Z
UID:7794-1709141400-1709148600@www.blackcoffee.net.au
SUMMARY:Canberra Black Coffee
DESCRIPTION:Canberra Black Coffee \nPlease join our newly appointed volunteer regional coordinator Julie Okely for a Canberra Black Coffee gathering. Our host organisation ICN is opening their venue to allow us to connect and gather on Ngunnawal country\, we look forward to seeing mob and allies come together. \nWhen: Wednesday February 28\, 2024 at 5:30 pm – 7:30 pm \nWhere: ICN (Industry Capability Network) – 123/24 Lonsdale Street Braddon\, ACT 2612 \nRSVP: Is a must below as light refreshments are provided \n \n 
URL:https://www.blackcoffee.net.au/event/canberra-black-coffee/
LOCATION:ICN\, 123/24 Lonsdale Street Braddon 2612\, Canberra\, ACT\, Australia
CATEGORIES:Canberra
END:VEVENT
END:VCALENDAR