BEGIN:VCALENDAR
VERSION:2.0
PRODID:-//Black Coffee Australia - ECPv6.10.1.1//NONSGML v1.0//EN
CALSCALE:GREGORIAN
METHOD:PUBLISH
X-WR-CALNAME:Black Coffee Australia
X-ORIGINAL-URL:https://www.blackcoffee.net.au
X-WR-CALDESC:Events for Black Coffee Australia
REFRESH-INTERVAL;VALUE=DURATION:PT1H
X-Robots-Tag:noindex
X-PUBLISHED-TTL:PT1H
BEGIN:VTIMEZONE
TZID:Australia/Brisbane
BEGIN:STANDARD
TZOFFSETFROM:+1000
TZOFFSETTO:+1000
TZNAME:AEST
DTSTART:20220101T000000
END:STANDARD
END:VTIMEZONE
BEGIN:VEVENT
DTSTART;TZID=Australia/Brisbane:20221122T113000
DTEND;TZID=Australia/Brisbane:20221122T140000
DTSTAMP:20260424T205527
CREATED:20221116T031549Z
LAST-MODIFIED:20221116T031549Z
UID:3843-1669116600-1669125600@www.blackcoffee.net.au
SUMMARY:Bundaberg Black Coffee Murri Alliance Meeting
DESCRIPTION:Black Coffee Bundaberg is joining the Murri Alliance Quarterly meeting.\nWhen: Tuesday 22 November 2022 at 11:30 am – 2:00 pm\nWhere: Bundaberg Neighbourhood Centre\, 111 Targo Street Bundaberg\nThe Minister for Employment and Small Business of Queensland and Minister for\nTraining and Skills Development of Queensland the Honourable Di Farmer MP will also be in\nattendance to meet Indigenous Businesses and Stakeholders in the region.\n\nPlease RSVP below
URL:https://www.blackcoffee.net.au/event/bundaberg-black-coffee-murri-alliance-meeting/
LOCATION:Bundaberg Neighbourhood Centre\, 111 Targo Street\, Bundaberg South\, Queensland\, 4670\, Australia
CATEGORIES:Bundaberg,QLD
END:VEVENT
END:VCALENDAR