BEGIN:VCALENDAR
VERSION:2.0
PRODID:-//Black Coffee Australia - ECPv6.10.1.1//NONSGML v1.0//EN
CALSCALE:GREGORIAN
METHOD:PUBLISH
X-WR-CALNAME:Black Coffee Australia
X-ORIGINAL-URL:https://www.blackcoffee.net.au
X-WR-CALDESC:Events for Black Coffee Australia
REFRESH-INTERVAL;VALUE=DURATION:PT1H
X-Robots-Tag:noindex
X-PUBLISHED-TTL:PT1H
BEGIN:VTIMEZONE
TZID:Australia/Brisbane
BEGIN:STANDARD
TZOFFSETFROM:+1000
TZOFFSETTO:+1000
TZNAME:AEST
DTSTART:20220101T000000
END:STANDARD
END:VTIMEZONE
BEGIN:VEVENT
DTSTART;TZID=Australia/Brisbane:20221115T073000
DTEND;TZID=Australia/Brisbane:20221115T083000
DTSTAMP:20260424T214921
CREATED:20221026T010335Z
LAST-MODIFIED:20221026T010335Z
UID:3803-1668497400-1668501000@www.blackcoffee.net.au
SUMMARY:Toowoomba Black Coffee
DESCRIPTION:Please join the Toowoomba Black Coffee crew for a morning of networking and yarns.\nWhen : Tuesday\, 15 November 2022\nWhere: 2nd Shot Cafe\, 488 Ruthven St\, Toowoomba City QLD
URL:https://www.blackcoffee.net.au/event/toowoomba-black-coffee-8/
LOCATION:2nd Shot Espresso\, 488 Ruthven St\, Toowoomba City\, Queensland\, 4350
CATEGORIES:QLD,Toowoomba
END:VEVENT
END:VCALENDAR