BEGIN:VCALENDAR
VERSION:2.0
PRODID:-//Black Coffee Australia - ECPv6.10.1.1//NONSGML v1.0//EN
CALSCALE:GREGORIAN
METHOD:PUBLISH
X-WR-CALNAME:Black Coffee Australia
X-ORIGINAL-URL:https://www.blackcoffee.net.au
X-WR-CALDESC:Events for Black Coffee Australia
REFRESH-INTERVAL;VALUE=DURATION:PT1H
X-Robots-Tag:noindex
X-PUBLISHED-TTL:PT1H
BEGIN:VTIMEZONE
TZID:Australia/Brisbane
BEGIN:STANDARD
TZOFFSETFROM:+1000
TZOFFSETTO:+1000
TZNAME:AEST
DTSTART:20220101T000000
END:STANDARD
END:VTIMEZONE
BEGIN:VEVENT
DTSTART;TZID=Australia/Brisbane:20221027T070000
DTEND;TZID=Australia/Brisbane:20221027T100000
DTSTAMP:20260425T011439
CREATED:20221004T230652Z
LAST-MODIFIED:20221004T230652Z
UID:3751-1666854000-1666864800@www.blackcoffee.net.au
SUMMARY:Thursday Island Blaik Coffee
DESCRIPTION:Join the Thursday Island Blaik Coffee crew for a yarn and a cuppa. \nWhere: Lagaw Titui. 42 Douglas St\, Thursday Island \nWhen: Thursday 27\, October at 7 am – 10 am \nDon’t forget to RSVP
URL:https://www.blackcoffee.net.au/event/thursday-island-blaik-coffee/
LOCATION:Lagaw Titui\, 42 Douglas St\, Thursday Island\, Queensland
END:VEVENT
BEGIN:VEVENT
DTSTART;TZID=Australia/Brisbane:20221027T073000
DTEND;TZID=Australia/Brisbane:20221027T090000
DTSTAMP:20260425T011439
CREATED:20221024T054943Z
LAST-MODIFIED:20221024T054943Z
UID:3795-1666855800-1666861200@www.blackcoffee.net.au
SUMMARY:Mackay\, Black Coffee
DESCRIPTION:Mackay Black Coffee \nDate: Thursday 27th October\, 2022 \nTime: 7.30 am-9.00 am \nLocation: Primal Coffee Roasters\, Shop 4\, 134 Evans Street\, Mackay Q 4740 \nDon’t forget to RSVP
URL:https://www.blackcoffee.net.au/event/mackay-black-coffee-4/
LOCATION:Primal Coffee Roasters\, Shop 4 134 Evans Street\, Mackay\, Queensland\, 4740\, Australia
END:VEVENT
BEGIN:VEVENT
DTSTART;TZID=Australia/Brisbane:20221027T080000
DTEND;TZID=Australia/Brisbane:20221027T090000
DTSTAMP:20260425T011439
CREATED:20221004T101718Z
LAST-MODIFIED:20221004T105553Z
UID:3742-1666857600-1666861200@www.blackcoffee.net.au
SUMMARY:Darwin\, Black Coffee
DESCRIPTION:Darwin Black Coffee  \nWhen: Thursday 27\, October 2022 at 8 am – 9 \nWhere:  Aboriginal Bush Traders  Shop 4\, Ground Floor\, 19 The Mall Charles Darwin Centre\, Darwin City Please don’t forget to RSVP
URL:https://www.blackcoffee.net.au/event/darwin-black-coffee/
LOCATION:Aboriginal Bush Traders\, Darwin\, NT\, Australia
END:VEVENT
BEGIN:VEVENT
DTSTART;TZID=Australia/Brisbane:20221027T090000
DTEND;TZID=Australia/Brisbane:20221027T103000
DTSTAMP:20260425T011439
CREATED:20220929T042539Z
LAST-MODIFIED:20221017T072722Z
UID:3719-1666861200-1666866600@www.blackcoffee.net.au
SUMMARY:Logan\, Black Coffee
DESCRIPTION:Join the deadly Logan mob for an Indigenous Business Month catch up\, find us on Thursday 27\, October 2022 at 9 am. having a yarn at Cafe’ on Cusack Jimboomba\, 14/689-695 Cusack Ln\, Jimboomba QLD 4280 \nDon’t forget to RSVP
URL:https://www.blackcoffee.net.au/event/logan-black-coffee-9/
LOCATION:Cafe’ on Cusack Jimboomba\, 14/689-695 Cusack Ln\, Jimboomba QLD\, Logan\, Queensland\, 4280
CATEGORIES:Logan,QLD
END:VEVENT
END:VCALENDAR