BEGIN:VCALENDAR
VERSION:2.0
PRODID:-//Black Coffee Australia - ECPv6.10.1.1//NONSGML v1.0//EN
CALSCALE:GREGORIAN
METHOD:PUBLISH
X-WR-CALNAME:Black Coffee Australia
X-ORIGINAL-URL:https://www.blackcoffee.net.au
X-WR-CALDESC:Events for Black Coffee Australia
REFRESH-INTERVAL;VALUE=DURATION:PT1H
X-Robots-Tag:noindex
X-PUBLISHED-TTL:PT1H
BEGIN:VTIMEZONE
TZID:Australia/Brisbane
BEGIN:STANDARD
TZOFFSETFROM:+1000
TZOFFSETTO:+1000
TZNAME:AEST
DTSTART:20220101T000000
END:STANDARD
END:VTIMEZONE
BEGIN:VEVENT
DTSTART;TZID=Australia/Brisbane:20221021T103000
DTEND;TZID=Australia/Brisbane:20221021T120000
DTSTAMP:20260425T043236
CREATED:20220928T014247Z
LAST-MODIFIED:20220928T014247Z
UID:3699-1666348200-1666353600@www.blackcoffee.net.au
SUMMARY:Port Adelaide\, Black Coffee
DESCRIPTION:South Australia Black Coffee has kicked off once again! \nPlease join the Adelaide mob at Folklore Cafe\, The Annex via\, Mundy Street\, Port Adelaide on Friday\, October 21 2022 gathering at 10:30 am – 12:00 pm. \nDon’t forget to RSVP below.
URL:https://www.blackcoffee.net.au/event/port-adelaide-black-coffee/
LOCATION:Folklore Cafe\, The Annex via\, Mundy St\, Port Adelaide SA\, Adelaide\, South Australia\, Australia
CATEGORIES:Adelaide,SA
END:VEVENT
END:VCALENDAR