BEGIN:VCALENDAR
VERSION:2.0
PRODID:-//Black Coffee Australia - ECPv6.10.1.1//NONSGML v1.0//EN
CALSCALE:GREGORIAN
METHOD:PUBLISH
X-ORIGINAL-URL:https://www.blackcoffee.net.au
X-WR-CALDESC:Events for Black Coffee Australia
REFRESH-INTERVAL;VALUE=DURATION:PT1H
X-Robots-Tag:noindex
X-PUBLISHED-TTL:PT1H
BEGIN:VTIMEZONE
TZID:Australia/Brisbane
BEGIN:STANDARD
TZOFFSETFROM:+1000
TZOFFSETTO:+1000
TZNAME:AEST
DTSTART:20220101T000000
END:STANDARD
END:VTIMEZONE
BEGIN:VEVENT
DTSTART;TZID=Australia/Brisbane:20221019T073000
DTEND;TZID=Australia/Brisbane:20221019T090000
DTSTAMP:20260425T011451
CREATED:20220805T061521Z
LAST-MODIFIED:20220805T061521Z
UID:3475-1666164600-1666170000@www.blackcoffee.net.au
SUMMARY:Ipswich Black Coffee
DESCRIPTION:Black Coffee is a grassroots First Nations business networking opportunity held in regions across Australia each month with a goal to provide a platform to connect micro and small business owners. \nFirst Nations business owners\, professionals and their supporters are invited to get together and have a yarn at Ipswich Black Coffee’s upcoming gathering Wednesday October 19\, 7:30 am Fire Station 101\, 101 Limestone Street Ipswich. \nPlease RSVP to our Ipswich Black Coffee Coordinator Derek Kinchela derek.kinchela@ipswich.qld.gov.au
URL:https://www.blackcoffee.net.au/event/ipswich-black-coffee-14-2-2/
LOCATION:Fire Station 101\, 101 Limestone Street\, Ipswich\, Queensland\, 4305\, Australia
CATEGORIES:Ipswich,QLD
END:VEVENT
END:VCALENDAR