BEGIN:VCALENDAR
VERSION:2.0
PRODID:-//Black Coffee Australia - ECPv6.10.1.1//NONSGML v1.0//EN
CALSCALE:GREGORIAN
METHOD:PUBLISH
X-WR-CALNAME:Black Coffee Australia
X-ORIGINAL-URL:https://www.blackcoffee.net.au
X-WR-CALDESC:Events for Black Coffee Australia
REFRESH-INTERVAL;VALUE=DURATION:PT1H
X-Robots-Tag:noindex
X-PUBLISHED-TTL:PT1H
BEGIN:VTIMEZONE
TZID:Australia/Brisbane
BEGIN:STANDARD
TZOFFSETFROM:+1000
TZOFFSETTO:+1000
TZNAME:AEST
DTSTART:20220101T000000
END:STANDARD
END:VTIMEZONE
BEGIN:VEVENT
DTSTART;TZID=Australia/Brisbane:20221011T073000
DTEND;TZID=Australia/Brisbane:20221011T083000
DTSTAMP:20260425T011445
CREATED:20220923T030903Z
LAST-MODIFIED:20220923T030903Z
UID:3651-1665473400-1665477000@www.blackcoffee.net.au
SUMMARY:Toowoomba Black Coffee
DESCRIPTION:Please join us for a long awaited Toowoomba Black Coffee. \nWhen: Tuesday 11\, October 2022 at 7.30-8.30 am\nVenue : 2nd Shot Espresso\nAddress: 488 Ruthven St\, Toowoomba City QLD 4350
URL:https://www.blackcoffee.net.au/event/toowoomba-black-coffee-7/
LOCATION:2nd Shot Espresso\, 488 Ruthven St\, Toowoomba City\, Queensland\, 4350
END:VEVENT
END:VCALENDAR