BEGIN:VCALENDAR
VERSION:2.0
PRODID:-//Black Coffee Australia - ECPv6.10.1.1//NONSGML v1.0//EN
CALSCALE:GREGORIAN
METHOD:PUBLISH
X-WR-CALNAME:Black Coffee Australia
X-ORIGINAL-URL:https://www.blackcoffee.net.au
X-WR-CALDESC:Events for Black Coffee Australia
REFRESH-INTERVAL;VALUE=DURATION:PT1H
X-Robots-Tag:noindex
X-PUBLISHED-TTL:PT1H
BEGIN:VTIMEZONE
TZID:Australia/Brisbane
BEGIN:STANDARD
TZOFFSETFROM:+1000
TZOFFSETTO:+1000
TZNAME:AEST
DTSTART:20220101T000000
END:STANDARD
END:VTIMEZONE
BEGIN:VEVENT
DTSTART;TZID=Australia/Brisbane:20221010T152000
DTEND;TZID=Australia/Brisbane:20221010T173000
DTSTAMP:20260424T233406
CREATED:20220921T013228Z
LAST-MODIFIED:20220921T013228Z
UID:3629-1665415200-1665423000@www.blackcoffee.net.au
SUMMARY:Bundaberg\, Black Coffee
DESCRIPTION:Bundaberg Black Coffee \nWhen: 10 October 2022 | 3:20 PM – 5:30 PM\nWhere: Bundaberg Neighbourhood Centre\n111 Targo Street\, Bundaberg South\, 4670. \nAll deadly businesses and stakeholders in the region are invited to join the the Bundaberg Black Coffee crew for a yarn and networking. \nThis Black Coffee gathering is in-line with the Bundaberg region\, Business Ready Workshop the following day Tuesday 11 October 2022 where Indigenous Business coaches will be available to help you become a NDIS Service Provider. \nFor more information contact:\nKatarina Skene\, CQ Hervey Bay Office – DSDSATSIP\nTel: 07 4183 9105 Email: katarina.skene@dsdsatsip.qld.gov.au \nPlease RSVP
URL:https://www.blackcoffee.net.au/event/bundaberg-black-coffee/
LOCATION:Bundaberg Neighbourhood Centre\, 111 Targo Street\, Bundaberg South\, Queensland\, 4670\, Australia
END:VEVENT
END:VCALENDAR