BEGIN:VCALENDAR
VERSION:2.0
PRODID:-//Black Coffee Australia - ECPv6.10.1.1//NONSGML v1.0//EN
CALSCALE:GREGORIAN
METHOD:PUBLISH
X-WR-CALNAME:Black Coffee Australia
X-ORIGINAL-URL:https://www.blackcoffee.net.au
X-WR-CALDESC:Events for Black Coffee Australia
REFRESH-INTERVAL;VALUE=DURATION:PT1H
X-Robots-Tag:noindex
X-PUBLISHED-TTL:PT1H
BEGIN:VTIMEZONE
TZID:Australia/Brisbane
BEGIN:STANDARD
TZOFFSETFROM:+1000
TZOFFSETTO:+1000
TZNAME:AEST
DTSTART:20220101T000000
END:STANDARD
END:VTIMEZONE
BEGIN:VEVENT
DTSTART;TZID=Australia/Brisbane:20220928T070000
DTEND;TZID=Australia/Brisbane:20220928T083000
DTSTAMP:20260425T010325
CREATED:20220919T233115Z
LAST-MODIFIED:20220920T064002Z
UID:3610-1664348400-1664353800@www.blackcoffee.net.au
SUMMARY:Social Enterprises World Forum\, Black Coffee
DESCRIPTION:Are you attending the Social Enterprise World Forum? \nAs a Social Enterprise World Forum guest you are invited to an exclusive Black Coffee gathering.\nPlease join us for a morning of networking\, engaging conversations to support community and country\, the heart of Indigenous enterprises. \nWhen: Wednesday\, 28 of September 2022\nWhere: Merivales Restaurant Cafe & Bar – Merivale St &\, Glenelg St\, South Brisbane QLD 4101\nTime: 7 am until 8:30 am\, gathering concludes for SEWF attendees to relocate to BCEC \nPlease be advised this is an RSVP event\, please register your attendance. \nCoffee is provided at no charge however this is a non- catered event.
URL:https://www.blackcoffee.net.au/event/social-enterprises-world-forum-black-coffee/
LOCATION:Merivales Cafe Bar & Resturant\, Merivale St &\, Glenelg St\, South Brisbane\, Queensland\, 4101\, Australia
CATEGORIES:Brisbane
END:VEVENT
END:VCALENDAR