BEGIN:VCALENDAR
VERSION:2.0
PRODID:-//Black Coffee Australia - ECPv6.10.1.1//NONSGML v1.0//EN
CALSCALE:GREGORIAN
METHOD:PUBLISH
X-ORIGINAL-URL:https://www.blackcoffee.net.au
X-WR-CALDESC:Events for Black Coffee Australia
REFRESH-INTERVAL;VALUE=DURATION:PT1H
X-Robots-Tag:noindex
X-PUBLISHED-TTL:PT1H
BEGIN:VTIMEZONE
TZID:Australia/Brisbane
BEGIN:STANDARD
TZOFFSETFROM:+1000
TZOFFSETTO:+1000
TZNAME:AEST
DTSTART:20220101T000000
END:STANDARD
END:VTIMEZONE
BEGIN:VEVENT
DTSTART;TZID=Australia/Brisbane:20220922T080000
DTEND;TZID=Australia/Brisbane:20220922T093000
DTSTAMP:20260425T011633
CREATED:20220909T021820Z
LAST-MODIFIED:20220913T215402Z
UID:3581-1663833600-1663839000@www.blackcoffee.net.au
SUMMARY:Postponed due to declared public holiday - Bowen\, Black Coffee
DESCRIPTION:Postponed due to declared public holiday – Black Coffee Bowen \nDate: TBA \nTime: TBA \nLocation: Horseshoe Bay Café\, 1 Horseshoe Bay\, Bowen QLD 4805 \nTo confirm your attendance please reply via email: BusinessMKY@dsdsatsip.qld.gov.au
URL:https://www.blackcoffee.net.au/event/bowen-black-coffee-2/
LOCATION:Horseshoe Bay Cafe’\, 1 Horseshoe Bay Road\, Bowen\, Queensland\, 4805\, Australia
END:VEVENT
BEGIN:VEVENT
DTSTART;TZID=Australia/Brisbane:20220922T130000
DTEND;TZID=Australia/Brisbane:20220922T143000
DTSTAMP:20260425T011633
CREATED:20220909T023159Z
LAST-MODIFIED:20220913T215243Z
UID:3586-1663851600-1663857000@www.blackcoffee.net.au
SUMMARY:Postponed due to declared public holiday - Airlie Beach\, Black Coffee
DESCRIPTION:Postponed due to declared public holiday Black Coffee Airlie Beach \nDate: TBA \nTime: TBA \nLocation: 3 Little Birds Espresso\, Shop 2\, 402 Shute Harbour Road\, Airlie Beach Q 4802 \nTo confirm your attendance please reply via email \nBusinessMKY@dsdsatsip.qld.gov.au
URL:https://www.blackcoffee.net.au/event/airlie-beach-black-coffee-2/
LOCATION:3 Little Birds Cafe\, Unit 2 402 Shute Harbour Road\, Airlie Beach\, Queensland\, 4802\, Australia
END:VEVENT
END:VCALENDAR