BEGIN:VCALENDAR
VERSION:2.0
PRODID:-//Black Coffee Australia - ECPv6.10.1.1//NONSGML v1.0//EN
CALSCALE:GREGORIAN
METHOD:PUBLISH
X-WR-CALNAME:Black Coffee Australia
X-ORIGINAL-URL:https://www.blackcoffee.net.au
X-WR-CALDESC:Events for Black Coffee Australia
REFRESH-INTERVAL;VALUE=DURATION:PT1H
X-Robots-Tag:noindex
X-PUBLISHED-TTL:PT1H
BEGIN:VTIMEZONE
TZID:Australia/Brisbane
BEGIN:STANDARD
TZOFFSETFROM:+1000
TZOFFSETTO:+1000
TZNAME:AEST
DTSTART:20220101T000000
END:STANDARD
END:VTIMEZONE
BEGIN:VEVENT
DTSTART;TZID=Australia/Brisbane:20220630T073000
DTEND;TZID=Australia/Brisbane:20220630T090000
DTSTAMP:20260425T124122
CREATED:20220614T001104Z
LAST-MODIFIED:20220614T001104Z
UID:3376-1656574200-1656579600@www.blackcoffee.net.au
SUMMARY:Mackay Black Coffee
DESCRIPTION:Black Coffee Mackay\nDate: Thursday 30 June 2022\nTime: 7.30 am – 9:00 am\nLocation: Primal Coffee Roaster\, Shop 4/134 Evans Street\, Mackay Queensland 4740\nTo confirm your attendance please reply via email: BusinessMKY@dsdsatsip.qld.gov.au
URL:https://www.blackcoffee.net.au/event/mackay-black-coffee-2/
LOCATION:Primal Coffee Roasters\, Shop 4 134 Evans Street\, Mackay\, Queensland\, 4740\, Australia
CATEGORIES:Mackay,QLD
END:VEVENT
BEGIN:VEVENT
DTSTART;TZID=Australia/Brisbane:20220630T090000
DTEND;TZID=Australia/Brisbane:20220630T100000
DTSTAMP:20260425T124122
CREATED:20220627T042004Z
LAST-MODIFIED:20220627T042004Z
UID:3386-1656579600-1656583200@www.blackcoffee.net.au
SUMMARY:Logan Black Coffee
DESCRIPTION:Inviting all Logan region Aboriginal & Torres Strait Islander Businesses to attend this months Black Coffee gathering. \nWhen: Thursday 30 June\, 9 am \nWhere: Cafe’ on Cusack Jimboomba – 14 / 689 – 695 Cusack Lane Jimboomba 4280 https://www.facebook.com/cafeoncusack/ \nAll welcome including children as we are aware it is school holidays\, please RSVP to Tracy at tracy@ironbarkindustriesbookkeeping.com by Tuesday 12pm if you are able to attend. \n 
URL:https://www.blackcoffee.net.au/event/logan-black-coffee-7/
LOCATION:Cafe’ on Cusack Jimboomba\, 14/689-695 Cusack Ln\, Jimboomba QLD\, Logan\, Queensland\, 4280
CATEGORIES:Logan,QLD
END:VEVENT
END:VCALENDAR